Workbook
Name 計畫編號清單: 選單資料!$A$2:$A$52

Sheet 附件1_115年聯甄合聘資料表
A1: 115年度國立成功大學與財團法人工業技術研究院教研人員聯甄合聘資料表
A2: *黃底表格內容請下拉式資料選填 | C2: *粉色提醒表格資料，務請確認後選填 | F2: *餘空白格內容請完整填寫
A3: ※ 敬請將 本資料表填寫完整後，列印紙本依行政流程完成系(所)及院(中心)用印後，掃描為PDF電子檔，以學院為單位，Mail至研發處學術組彙辦。
A4: 申請人姓名 | B4: (中文) | E4: 英文 | F4: (Last Name) (First Name) (Middle Name) | L4: 教授
A5: 聯絡電話 | B5: 公務： | E5: 手機： | L5: 副教授
A6: E-mail | L6: 助理教授
A7: 職 稱 (下拉式選單) | L7: 研究員
A8: 本校到職日 | B8: 80/00/00 | L8: 副研究員
A9: 本職單位 | B9: 學院(中心) | L9: 助理研究員
B10: 系(所)
A11: 研究領域及專長 （請列點呈現） | B11: 1
B12: 2
B13: 3
B14: 4
B15: 5
A16: 是否曾與工研院合聘 (下拉式選單) | B16: 否 | D16: =IF(B16="是","次","")
A17: 目前是否與工研院共同執行產學合作計畫 (下拉式選單) | B17: 否 | D17: =IF(B17="是","件","")
A18: 有意參與計畫 至多4項 （依領域專長需求表， 下拉選取編號） | B18: 序號 | C18: 計畫編號 | D18: 計畫主軸 | F18: 計畫名稱
B19: 序號1 | D19: =IF($C19="","",VLOOKUP($C19,選單資料!$A$2:$C$52,2,FALSE)) | F19: =IF($C19="","",VLOOKUP($C19,選單資料!$A$2:$C$52,3,FALSE))
B20: 序號2 | D20: =IF($C20="","以下空白",VLOOKUP($C20,選單資料!$A$2:$C$52,2,FALSE)) -> 以下空白 | F20: =IF($C20="","以下空白",VLOOKUP($C20,選單資料!$A$2:$C$52,3,FALSE)) -> 以下空白
B21: 序號3 | D21: =IF($C21="","以下空白",VLOOKUP($C21,選單資料!$A$2:$C$52,2,FALSE)) -> 以下空白 | F21: =IF($C21="","以下空白",VLOOKUP($C21,選單資料!$A$2:$C$52,3,FALSE)) -> 以下空白
B22: 序號4 | D22: =IF($C22="","以下空白",VLOOKUP($C22,選單資料!$A$2:$C$52,2,FALSE)) -> 以下空白 | F22: =IF($C22="","以下空白",VLOOKUP($C22,選單資料!$A$2:$C$52,3,FALSE)) -> 以下空白
A23: 申請人確認檢核 (請閱覽相關須知及說明後， 下拉修改狀態) | B23: 尚未了解 | C23: 「本校教師至工研院合聘機制補充說明表」，合聘期間之薪資、保險、退休金、智財歸屬等權益及保密義務(點選連結)。
B24: 尚未了解 | C24: 本校「教師校外兼課兼職補充規定」(點選連結)。
A25: 檢附資料 | B25: ●附件1_聯甄合聘資料表(紙本經系所及院/中心確認用印同意後掃描為電子檔) ●附件2_教研人員履歷表 (電子檔)
A26: 申請人簽章 | B26: 系（所）簽章 | E26: 一級單位簽章
B27: ☐ 查申請人為本校現任在職教研人員。 ☐ 申請人擬兼職務與教學或研究專長領域相關。 (簽章日期:115/ / ) | E27: ☐ 同意本申請案 □ 申請人最近一次評量未通過，未能同意。
A28: (簽章日期:115/ / ) | B28: (簽章日期:115/ / ) | H28: (簽章日期:115/ / )
A29: 研究發展處收件
A31: ※聯甄合聘資料表僅供彙整作業使用，不直接對外提供。 ※個人履歷表（含相關文件）將提供工研院進行聯甄合聘審查。 ※徵選資料將送財團法人工業技術研究院審查及會談，於雙方合意聘任後，應依規定完成校內相關申請作業，始可在校外兼課兼職。
H32: =NOW() -> 46302.369

Sheet 附件2_115年成功大學教研人員履歷表
A1: 115年國立成功大學教研人員履歷表
A2: ※本表僅供本次工研院聯甄合聘審查作業使用，並依個人資料保護法相關規定辦理，不得作其他用途。
A3: ※請列印存為PDF檔，檔名以 「 115年工研院教研人員聯徵合聘資料_姓名（系所單位）」存檔。 | I3: 填寫日期： | J3: 2026/MM/DD
A4: 一、基本資料：
A5: 中文姓名 | B5: =附件1_115年聯甄合聘資料表!$B$4 -> (中文) | E5: 英文姓名 | G5: =附件1_115年聯甄合聘資料表!$F$4 -> (Last Name) (First Name) (Middle Name)
A6: 本職單位 | B6: =附件1_115年聯甄合聘資料表!$C$9&附件1_115年聯甄合聘資料表!$C$10 | E6: 任職日 | G6: =附件1_115年聯甄合聘資料表!$B$8 -> 80/00/00
A7: 職稱 | B7: =附件1_115年聯甄合聘資料表!$B$7 -> 0
A8: 國籍 | D8: 性別(下拉選單) | F8: 男 | H8: 出生日期 (西元) | I8: 1980/0/0
A9: 聯絡電話 | B9: =附件1_115年聯甄合聘資料表!B5 -> 公務： | C9: =附件1_115年聯甄合聘資料表!$C$5 -> 0 | E9: =附件1_115年聯甄合聘資料表!E5 -> 手機： | F9: =附件1_115年聯甄合聘資料表!$F$5 -> 0
A10: E-mail | B10: =附件1_115年聯甄合聘資料表!$B$6 -> 0
A11: 通訊地址 | B11: □□□□□
A12: 有意參與計畫 | B12: 序號1 | C12: =附件1_115年聯甄合聘資料表!$C19 -> 0 | D12: =_xlfn.IFNA(IF($C12="","",VLOOKUP($C12,選單資料!$A$2:$C$52,2,FALSE)),"") | E12: =_xlfn.IFNA(IF($C12="","",VLOOKUP($C12,選單資料!$A$2:$C$52,3,FALSE)),"")
B13: 序號2 | C13: =附件1_115年聯甄合聘資料表!$C20 -> 0 | D13: =_xlfn.IFNA(IF($C13="","",VLOOKUP($C13,選單資料!$A$2:$C$52,2,FALSE)),"以下空白") -> 以下空白 | E13: =_xlfn.IFNA(IF($C13="","",VLOOKUP($C13,選單資料!$A$2:$C$52,3,FALSE)),"")
B14: 序號3 | C14: =附件1_115年聯甄合聘資料表!$C21 -> 0 | D14: =_xlfn.IFNA(IF($C14="","",VLOOKUP($C14,選單資料!$A$2:$C$52,2,FALSE)),"以下空白") -> 以下空白 | E14: =_xlfn.IFNA(IF($C14="","",VLOOKUP($C14,選單資料!$A$2:$C$52,3,FALSE)),"")
B15: 序號4 | C15: =附件1_115年聯甄合聘資料表!$C22 -> 0 | D15: =_xlfn.IFNA(IF($C15="","",VLOOKUP($C15,選單資料!$A$2:$C$52,2,FALSE)),"以下空白") -> 以下空白 | E15: =_xlfn.IFNA(IF($C15="","",VLOOKUP($C15,選單資料!$A$2:$C$52,3,FALSE)),"")
A16: 二、主要學歷（從高到低）
A17: 學校名稱 | B17: 國別 | D17: 主修學門系所 | F17: 學位 | H17: 起訖年月（西元年／月）
H18: 自 ／ 至 ／
H19: 自 ／ 至 ／
H20: 自 ／ 至 ／
A21: 三、現職及與專長相關之經歷（近期到遠期）
A22: 服務機構 | C22: 服務部門／系所 | F22: 職稱 | H22: 起訖年月（西元年／月）
A23: 現職： | H23: 自 ／ 至 ／
A24: 經歷： | H24: 自 ／ 至 ／
H25: 自 ／ 至 ／
H26: 自 ／ 至 ／
A27: 四、專長（列點呈現）
A28: 1 | B28: =附件1_115年聯甄合聘資料表!C11 -> 0
A29: 2 | B29: =附件1_115年聯甄合聘資料表!C12 -> 0
A30: 3 | B30: =附件1_115年聯甄合聘資料表!C13 -> 0
A31: 4 | B31: =附件1_115年聯甄合聘資料表!C14 -> 0
A32: 5 | B32: =附件1_115年聯甄合聘資料表!C15 -> 0
A33: 五、著作目錄(請另以附件方式檢附)
A34: •請分類填列近5年內發表之學術及技術著作，包括期刊論文、專書及專書論文、研討會論文、技術報告及其他成果。 •各類著作請依發表年月由新至舊排列。 •每項請依序載明作者姓名（依原出版順序，通訊作者請加註＊）、出版年月、著作名稱、期刊或出版機構名稱、卷期、起訖頁碼及DOI；已接受刊登但尚未正式出版者，請註明「已接受」並檢附接受證明。
A35: 六、其他有利審查相關文件／近五年代表性研發及產學成果(請另以附件方式檢附)
A36: 可包括： • 專利及技術移轉成果。 • 產學合作計畫及擔任角色。 • 技術商品化、產品開發或場域驗證成果。 • 國際標準、產業規範或政策參與成果。 • 其他與申請合聘領域相關的重要成果。

Sheet 附表1_115年工研院領域專長需求表
A1: 115年財團法人工業技術研究院合聘人員領域專長需求表 | E1: 資料日期:2026.09
A2: 技術主軸 | B2: 編號 | C2: 計畫名稱 | D2: 前沿技術 | E2: 工研院專業人才需求單位
A3: 人工智慧 | B3: 1 | C3: XLAM多模態影像驅動模仿動作生成技術 | D3: 端到端自動化程式生成LMM(Large Multimodal Model) | E3: 機械與機電系統研究所
B4: 2 | C4: 多模態語意感知與自主決策聲學巡檢(1/2) | D4: 聲圖融合識別與推理技術
B5: 3 | C5: 新興運動科技創新技術與服務應用研發計畫 | D5: 視覺影像技術應用在高階生物力學補捉 | E5: 中分院
B6: 4 | C6: 虛實整合智慧製造產線數位內容生成技術計畫(4/4) | D6: 生成式AI於智慧製造產線之製程生成、AI銑削加工肇因分析 | E6: 機械與機電系統研究所
B7: 5 | C7: 人工智慧創新服務與關鍵技術計畫 | D7: RAGOps：知識檢索增強生成(RAG)之營運治理、品質監控與自動化管線管理技術、企業文件多模態生成技術 | E7: 資訊與通訊研究所
B8: 6 | C8: 智慧機器人關鍵技術及產業生態系建置計畫 | D8: 基於影像之物理屬性生成技術與場景理解技術
B9: 7 | C9: 基於語意及場景資訊的數位雙生虛擬人行為生成與模擬 | D9: 多模態影像分析之虛擬場景與異常事件生成技術
B10: 8 | C10: 適用於邊緣運算之採用神經網路架構及結合多感測器技術融合的空壓系統用氣健康狀況分析技術 | D10: 邊緣運算結合空壓系統即時健康指標回饋能源管理系統之節能調度技術 | E10: 綠能與環境研究所
B11: 9 | C11: 人工智慧與邊緣運算於可再生能源管理之應用：時間序列預測與儲能系統最佳化 | D11: 再生能源發電預測、用戶端電力需求預測、儲能系統管理優化
B12: 10 | C12: 應用於碳化矽功率半導體之AI智能主動式驅動技術 | D12: 學習導向之SiC功率元件主動閘極即時抑制過衝與雜訊、多規格SiC之AI數位閘極控制器與高效電源轉換
B13: 11 | C13: 世界模型驅動機器人大腦平台 | D13: 一.AI與電腦視覺領域： 1. 視覺資料語意表示與生成過程學習 2. 視覺資料生成與編輯 3. 視覺感知能力學習與理解 二.edge AI | E13: 服務系統科技中心
B14: 12 | C14: 音樂科技 | D14: 聲學科技、關於耳機喇叭音質/音場AI模擬 | E14: 服務系統科技中心
B15: 13 | C15: 亞灣智慧科技創新應用推進計畫(1/1) | D15: 石化廠域智慧安全預警技術 | E15: 南分院
A16: 通訊 | B16: 14 | C16: 國家度量衡標準實驗室運作與發展計畫 | D16: 毫米波波導、電路、天線等量測技術 | E16: 量測技術發展中心
B17: 15 | C17: 6G晶創計畫 | D17: ISAC通訊與感知融合網路資源優化技術、Trustworthy / Safe AI in RAN Digital Twin | E17: 資訊與通訊研究所
B18: 16 | C18: 無人機虛實整合及多元應用關鍵技術 (1/5) | D18: Swarm mesh/FANET technology
A19: 半導體 | B19: 17 | C19: 半導體先進計量技術與基磐建置計畫 | D19: 半導體關鍵尺寸計量技術、先進封裝量測技術、下世代半導體材料計量技術、X-ray/EUV Metrology | E19: 量測技術發展中心
B20: 18 | C20: 晶片暨系統整合服務平台計畫 | D20: Edge AI效能優化技術、AI運算軟韌體開發環境優化 | E20: 電子與光電系統研究所
B21: 19 | C21: 先進晶片產業前瞻技術發展計畫 | D21: 大型AI模型運算軟硬體及應用技術
B22: 20 | C22: 化合物半導體元件系統整合應用與場域驗證計畫 | D22: 碳化矽固態變壓器開發
B23: 21 | C23: 低耗損光電共封裝模組技術應用計畫(1/3) | D23: 共同封裝光學CPO(Co-Packaged Optics) 技術、112Gbps SerDes基板封裝傳輸線技術
B24: 22 | C24: 磊晶級基板與元件封裝材料關鍵技術 | D24: 高純半絕緣粉末(HPSI) | E24: 材料與化工研究所
B25: 23 | C25: 非侵入式類腦神經運算晶片系統開發 | D25: 數位IC設計 | E25: 服務系統科技中心
B26: 24 | C26: 下世代封裝製程奈米級全方位感測技術開發計畫(4/4) | D26: 量子鑽石顯微與糾纏成像技術、量子感測原子鐘技術、矽光子及光交換光學模組技術、MEMS陣列光學元件與透鏡技術 | E26: 智慧感測與系統科技中心
A27: 矽光子 | B27: 25 | C27: 先進矽光子共封裝暨整合晶片測試驗證平台建置計畫(1/3) | D27: 高速矽光子光電元件與高頻電路整合設計、高速矽光子收發模組之高頻電路設計與訊號完整性最佳化 | E27: 電子與光電系統研究所
A28: 量子技術 | B28: 26 | C28: 量子技術發展相關計畫 | D28: 糾纏光子影像技術、量子感測器 | E28: 量測技術發展中心
A29: 智慧製造 | B29: 27 | C29: 年度智慧機械產業智慧化線上計量標準建置計畫 | D29: 工具機虛擬組裝與精度分析 主軸智慧感測與健康監測技術 | E29: 量測技術發展中心
A30: 無人機 | B30: 28 | C30: 無人機虛實整合及多元應用情境關鍵技術計畫 | D30: 自主導航與群體智能、多元混合動力系統、感測與數據融合、系統設計與先進製造 | E30: 機械與機電系統研究所
B31: 29 | C31: 智慧導引無人機酬載夾持模組試製與驗證平台建置計畫 | D31: AI 視覺導引與目標辨識之精準抓取、力覺回饋與順應性控制之空中操作、任務型酬載模組化設計與快速掛載驗證技術 | E31: 量測技術發展中心
B32: 30 | C32: 基於ROS的邊緣AI關鍵技術與平台軟體開發計畫 | D32: 多模態影像分析之虛擬場景與異常事件生成技術、多模態影像分析之Ego Centric View技術、UAV 端到端自主導航VLA策略、VLM 多模態理解 | E32: 資訊與通訊研究所
B33: 31 | C33: 無人機虛實整合及多元應用關鍵技術計畫 (1/5) | D33: 低雜訊類比前端電路技術、高解析24bit ADC技術、適應性數位控制補償電路技術、超微型酬載光學鏡頭與模組技術、光學陀螺儀或先進感測技術 | E33: 智慧感測與系統科技中心
A34: 機器人 | B34: 32 | C34: 晶片暨系統整合服務平台計畫 | D34: 智慧服務共通軟體(智慧旅宿服務) | E34: 電子與光電系統研究所
B35: 33 | C35: 先進多型態人型機器人系統(1/2) | D35: 人型機器人強化學習、多模態感知控制技術 | E35: 機械與機電系統研究所
B36: 34 | C36: 機器人大腦快速學習與資料蒐集框架 | D36: 空間智慧、多模態訊號融合與決策 | E36: 資訊與通訊研究所
B37: 35 | C37: 醫療照護服務型機器人 | D37: 抓取、感知與導航技術、感測與控制、多模態消毒技術、AI 智能決策與數據回饋、系統整合與安全 | E37: 服務系統科技中心
B38: 36 | C38: 物流搬運與揀選機器人 | D38: 自主移動與導航、抓取、感測與控制、智能感知與操作、AI 與大數據應用、數據閉環管理發展 | E38: 服務系統科技中心
B39: 37 | C39: 智慧機器人關鍵技術及產業生態系建置計畫(1/4) | D39: 智慧巡檢機器人POC驗證、AI模型與應用之數位雙生驗證 | E39: 南分院
B40: 38 | C40: 無人機虛實整合及多元應用關鍵技術計畫 (1/5) | D40: 擬人化或仿生先進感測技術、Edge端AI感測融合、In Sensor Computing技術 | E40: 智慧感測與系統科技中心
...

Sheet 工研院合聘機制說明
A1: 本校教研人員至工研院合聘機制補充說明表
A2: 資料時間：2026/09
A3: 項目 | B3: 說 明
A4: 聘僱關係 | B4: 本職在本校，工研院為合聘機構。
A5: 合聘資格 | B5: 經本校同意，工研院得合聘本校專任教授、副教授、助理教授、編制內研究員、副研究員或助理研究員為工研院之合聘研究人員，參與工研院之研究工作；聘任程序依工研院聘任辦法辦理（協議書第六條）。
A6: 期間 | B6: 合聘聘期以一年為期，經雙方同意得續聘，每次仍以一年為期（協議書第八條）。
A7: 薪資、獎金、休假及福利 | B7: 分別依雙方相關規定辦理。
A8: 工作時間 | B8: 分別依雙方相關規定辦理。
A9: 保險 | B9: 1. 分別依雙方相關規定辦理。 2. 工研院： (1) 勞保：工研院不參加。 (2) 健保：工研院不參加，但扣繳補充保費。 (3) 團保：工研院參加。
A10: 退休金 | B10: 分別依雙方規定辦理。
A11: 智慧財產權歸屬及衍生利益分配 | B11: 除雙方就個別工作計畫或專案計畫，於進行合作前另以書面協議智慧財產權歸屬及利益收入分配之原則外，雙方依約定之合作方式所產生之研發成果，其智慧財產權及其衍生利益之分配依下列原則定其歸屬： 一、由甲方（工研院）或乙方（本校）人員獨力完成之成果，其智慧財產權分別歸甲方或乙方所有。 二、雙方協力完成之研發成果，得由雙方共有，並應參酌提供經費及專業能力之貢獻，約定共有比例及共有其他權利義務，包括但不限於申請及維護費用之分擔等。（協議書第二條）
A12: 保密義務 | B12: 一、如為合聘或借調人員，依雙方各自聘用人員之規範分別簽署員工保密同意書。 二、雙方及所屬人員對因合作而知悉或持有他方機密資訊負保密義務，保密期間自協議書簽署之日或收受方實際知悉或持有揭露方機密資訊之日起5年止（以日期在前者起算），且不因協議書終止或解除而免除或失效。（協議書第四條）
A13: 合聘人員權限範圍 | B13: 合聘人員經合聘機構同意，得參與其科技性或學術性活動；非經雙方同意，不得參與其組織政策、預算支配及人事問題或其他行政工作（協議書第九條）。
A14: 管理規章遵守 | B14: 雙方人員至他方進行合作事宜時，應遵守他方之管理規章（協議書第三條）。
A15: 備註： • 本表為工研院提供本校教師至工研院合聘之相關權益參考。 • 有關教師兼職、智財等相關事項依本校相關規定及雙方學研合作協議書辦理。 • 本表提供教師參考，實際依雙方規定辦理。

Sheet 教師校外兼課兼職須知
A1: 本校專任教師校外兼課兼職須知
A2: 連結- | B2: 教師校外兼課兼職補充規定
A3: 連結- | B3: 教師授課鐘點原則及超授鐘點費、論文指導費計支要點
A4: 連結- | B4: 教職員校外兼職簽辦表 (合聘於工研院)
A5: 連結- | B5: 教師及研究人員兼任校外研究計畫案職務申請表 (僅參與對方計畫)
A6: ● | B6: 請先詳閱本校「教師校外兼課兼職補充規定」及「教師授課鐘點原則及超授鐘點費、論文指導費計支要點」，並審慎評估自身情形，以避免後續合聘內容與前開規定有所抵觸，進而影響個人權益。
A7: ● | B7: 依本校規定，本校教師須至校外兼課、兼職者，應於每年8月31日或1月31日前，事先填寫「教職員校外兼職簽辦表」，簽報系、所主管及院長慎重審核並陳奉校長同意後始可在校外兼課兼職；如未經同意者，將提三級教師評審委員會審議處理，並列入學年度辦理續聘、年功（資）加俸（薪）、升等及教師評量之參考。
A8: ● | B8: 教師兼任職務不得影響本職工作，且應符合校內基本授課時數及工作要求。
A9: ● | B9: 提送兼職兼課申請前，請先行檢視是否有依規定不予核准或廢止核准等情形：
A10: △ | B10: 與本職工作性質不相容。
A11: △ | B11: 教師評量未通過者。
A12: △ | B12: 對本職工作有不良影響之虞。
A13: △ | B13: 有損學校或教師形象之虞。
... A19: △ | B19: 未符合校內基本授課時數。

Sheet 選單資料
A1: 編號 | B1: 計畫主軸 | C1: 計畫名稱
A2: 1 | B2: 人工智慧 | C2: XLAM多模態影像驅動模仿動作生成技術
A3: 2 | B3: 人工智慧 | C3: 多模態語意感知與自主決策聲學巡檢(1/2)
A4: 3 | B4: 人工智慧 | C4: 新興運動科技創新技術與服務應用研發計畫
A5: 4 | B5: 人工智慧 | C5: 虛實整合智慧製造產線數位內容生成技術計畫(4/4)
A6: 5 | B6: 人工智慧 | C6: 人工智慧創新服務與關鍵技術計畫
A7: 6 | B7: 人工智慧 | C7: 智慧機器人關鍵技術及產業生態系建置計畫
A8: 7 | B8: 人工智慧 | C8: 基於語意及場景資訊的數位雙生虛擬人行為生成與模擬
A9: 8 | B9: 人工智慧 | C9: 適用於邊緣運算之採用神經網路架構及結合多感測器技術融合的空壓系統用氣健康狀況分析技術
A10: 9 | B10: 人工智慧 | C10: 人工智慧與邊緣運算於可再生能源管理之應用：時間序列預測與儲能系統最佳化
A11: 10 | B11: 人工智慧 | C11: 應用於碳化矽功率半導體之AI智能主動式驅動技術
A12: 11 | B12: 人工智慧 | C12: 世界模型驅動機器人大腦平台
A13: 12 | B13: 人工智慧 | C13: 音樂科技
... A52: 51 | B52: 智慧醫療 | C52: 國家藥物韌性整備計畫(1/4)
